BEGIN:VCALENDAR
VERSION:2.0
PRODID:-//Sibford Village Hall - ECPv6.15.20//NONSGML v1.0//EN
CALSCALE:GREGORIAN
METHOD:PUBLISH
X-ORIGINAL-URL:https://sibfordvillagehall.org.uk
X-WR-CALDESC:Events for Sibford Village Hall
REFRESH-INTERVAL;VALUE=DURATION:PT1H
X-Robots-Tag:noindex
X-PUBLISHED-TTL:PT1H
BEGIN:VTIMEZONE
TZID:Europe/London
BEGIN:DAYLIGHT
TZOFFSETFROM:+0000
TZOFFSETTO:+0100
TZNAME:BST
DTSTART:20230326T010000
END:DAYLIGHT
BEGIN:STANDARD
TZOFFSETFROM:+0100
TZOFFSETTO:+0000
TZNAME:GMT
DTSTART:20231029T010000
END:STANDARD
BEGIN:DAYLIGHT
TZOFFSETFROM:+0000
TZOFFSETTO:+0100
TZNAME:BST
DTSTART:20240331T010000
END:DAYLIGHT
BEGIN:STANDARD
TZOFFSETFROM:+0100
TZOFFSETTO:+0000
TZNAME:GMT
DTSTART:20241027T010000
END:STANDARD
BEGIN:DAYLIGHT
TZOFFSETFROM:+0000
TZOFFSETTO:+0100
TZNAME:BST
DTSTART:20250330T010000
END:DAYLIGHT
BEGIN:STANDARD
TZOFFSETFROM:+0100
TZOFFSETTO:+0000
TZNAME:GMT
DTSTART:20251026T010000
END:STANDARD
END:VTIMEZONE
BEGIN:VEVENT
DTSTART;TZID=Europe/London:20240301T093000
DTEND;TZID=Europe/London:20240301T113000
DTSTAMP:20260421T190235
CREATED:20240221T183010Z
LAST-MODIFIED:20240221T183010Z
UID:6974-1709285400-1709292600@sibfordvillagehall.org.uk
SUMMARY:Private event
DESCRIPTION:
URL:https://sibfordvillagehall.org.uk/event/private-event-88-2/
LOCATION:Small hall
END:VEVENT
BEGIN:VEVENT
DTSTART;TZID=Europe/London:20240301T093000
DTEND;TZID=Europe/London:20240301T123000
DTSTAMP:20260421T190235
CREATED:20240208T183024Z
LAST-MODIFIED:20240208T183024Z
UID:6826-1709285400-1709296200@sibfordvillagehall.org.uk
SUMMARY:Art Class
DESCRIPTION:
URL:https://sibfordvillagehall.org.uk/event/art-class-3-8/
LOCATION:Main hall
END:VEVENT
BEGIN:VEVENT
DTSTART;TZID=Europe/London:20240301T160000
DTEND;TZID=Europe/London:20240301T190000
DTSTAMP:20260421T190235
CREATED:20240214T183008Z
LAST-MODIFIED:20240214T183008Z
UID:6900-1709308800-1709319600@sibfordvillagehall.org.uk
SUMMARY:Private event
DESCRIPTION:
URL:https://sibfordvillagehall.org.uk/event/private-event-82/
LOCATION:Main hall
END:VEVENT
BEGIN:VEVENT
DTSTART;TZID=Europe/London:20240301T173000
DTEND;TZID=Europe/London:20240301T190000
DTSTAMP:20260421T190235
CREATED:20240214T183008Z
LAST-MODIFIED:20240214T183008Z
UID:6901-1709314200-1709319600@sibfordvillagehall.org.uk
SUMMARY:Private event
DESCRIPTION:
URL:https://sibfordvillagehall.org.uk/event/private-event-83/
LOCATION:Small hall
END:VEVENT
END:VCALENDAR