BEGIN:VCALENDAR
VERSION:2.0
PRODID:-//Sibford Village Hall - ECPv6.15.20//NONSGML v1.0//EN
CALSCALE:GREGORIAN
METHOD:PUBLISH
X-WR-CALNAME:Sibford Village Hall
X-ORIGINAL-URL:https://sibfordvillagehall.org.uk
X-WR-CALDESC:Events for Sibford Village Hall
REFRESH-INTERVAL;VALUE=DURATION:PT1H
X-Robots-Tag:noindex
X-PUBLISHED-TTL:PT1H
BEGIN:VTIMEZONE
TZID:Europe/London
BEGIN:DAYLIGHT
TZOFFSETFROM:+0000
TZOFFSETTO:+0100
TZNAME:BST
DTSTART:20230326T010000
END:DAYLIGHT
BEGIN:STANDARD
TZOFFSETFROM:+0100
TZOFFSETTO:+0000
TZNAME:GMT
DTSTART:20231029T010000
END:STANDARD
BEGIN:DAYLIGHT
TZOFFSETFROM:+0000
TZOFFSETTO:+0100
TZNAME:BST
DTSTART:20240331T010000
END:DAYLIGHT
BEGIN:STANDARD
TZOFFSETFROM:+0100
TZOFFSETTO:+0000
TZNAME:GMT
DTSTART:20241027T010000
END:STANDARD
BEGIN:DAYLIGHT
TZOFFSETFROM:+0000
TZOFFSETTO:+0100
TZNAME:BST
DTSTART:20250330T010000
END:DAYLIGHT
BEGIN:STANDARD
TZOFFSETFROM:+0100
TZOFFSETTO:+0000
TZNAME:GMT
DTSTART:20251026T010000
END:STANDARD
END:VTIMEZONE
BEGIN:VEVENT
DTSTART;TZID=Europe/London:20240209T093000
DTEND;TZID=Europe/London:20240209T113000
DTSTAMP:20260421T190058
CREATED:20240117T183021Z
LAST-MODIFIED:20240117T183021Z
UID:6675-1707471000-1707478200@sibfordvillagehall.org.uk
SUMMARY:Tots & Babes group
DESCRIPTION:
URL:https://sibfordvillagehall.org.uk/event/for-non-profit-play-g-4/
LOCATION:Small hall
END:VEVENT
BEGIN:VEVENT
DTSTART;TZID=Europe/London:20240209T093000
DTEND;TZID=Europe/London:20240209T123000
DTSTAMP:20260421T190058
CREATED:20240208T183023Z
LAST-MODIFIED:20240208T183023Z
UID:6822-1707471000-1707481800@sibfordvillagehall.org.uk
SUMMARY:Art Class
DESCRIPTION:
URL:https://sibfordvillagehall.org.uk/event/art-class-3-5/
LOCATION:Main hall
END:VEVENT
BEGIN:VEVENT
DTSTART;TZID=Europe/London:20240209T160000
DTEND;TZID=Europe/London:20240209T190000
DTSTAMP:20260421T190058
CREATED:20231224T183012Z
LAST-MODIFIED:20231224T183012Z
UID:6494-1707494400-1707505200@sibfordvillagehall.org.uk
SUMMARY:Beavers\, Cubs and Scouts
DESCRIPTION:
URL:https://sibfordvillagehall.org.uk/event/private-event-45-4/
LOCATION:Main hall
END:VEVENT
BEGIN:VEVENT
DTSTART;TZID=Europe/London:20240209T173000
DTEND;TZID=Europe/London:20240209T190000
DTSTAMP:20260421T190058
CREATED:20231224T183012Z
LAST-MODIFIED:20231224T183012Z
UID:6495-1707499800-1707505200@sibfordvillagehall.org.uk
SUMMARY:Beavers\, Cubs and Scouts
DESCRIPTION:
URL:https://sibfordvillagehall.org.uk/event/private-event-53-4/
LOCATION:Small hall
END:VEVENT
END:VCALENDAR