BEGIN:VCALENDAR
VERSION:2.0
PRODID:-//Sibford Village Hall - ECPv6.15.20//NONSGML v1.0//EN
CALSCALE:GREGORIAN
METHOD:PUBLISH
X-WR-CALNAME:Sibford Village Hall
X-ORIGINAL-URL:https://sibfordvillagehall.org.uk
X-WR-CALDESC:Events for Sibford Village Hall
REFRESH-INTERVAL;VALUE=DURATION:PT1H
X-Robots-Tag:noindex
X-PUBLISHED-TTL:PT1H
BEGIN:VTIMEZONE
TZID:Europe/London
BEGIN:DAYLIGHT
TZOFFSETFROM:+0000
TZOFFSETTO:+0100
TZNAME:BST
DTSTART:20220327T010000
END:DAYLIGHT
BEGIN:STANDARD
TZOFFSETFROM:+0100
TZOFFSETTO:+0000
TZNAME:GMT
DTSTART:20221030T010000
END:STANDARD
BEGIN:DAYLIGHT
TZOFFSETFROM:+0000
TZOFFSETTO:+0100
TZNAME:BST
DTSTART:20230326T010000
END:DAYLIGHT
BEGIN:STANDARD
TZOFFSETFROM:+0100
TZOFFSETTO:+0000
TZNAME:GMT
DTSTART:20231029T010000
END:STANDARD
BEGIN:DAYLIGHT
TZOFFSETFROM:+0000
TZOFFSETTO:+0100
TZNAME:BST
DTSTART:20240331T010000
END:DAYLIGHT
BEGIN:STANDARD
TZOFFSETFROM:+0100
TZOFFSETTO:+0000
TZNAME:GMT
DTSTART:20241027T010000
END:STANDARD
END:VTIMEZONE
BEGIN:VEVENT
DTSTART;TZID=Europe/London:20231122T120000
DTEND;TZID=Europe/London:20231122T143000
DTSTAMP:20260421T144936
CREATED:20230723T183010Z
LAST-MODIFIED:20230723T183010Z
UID:5620-1700654400-1700663400@sibfordvillagehall.org.uk
SUMMARY:Sibford Lunch Club
DESCRIPTION:
URL:https://sibfordvillagehall.org.uk/event/sibford-lunch-club-10-46/
LOCATION:Main hall
END:VEVENT
BEGIN:VEVENT
DTSTART;TZID=Europe/London:20231122T173000
DTEND;TZID=Europe/London:20231122T183000
DTSTAMP:20260421T144936
CREATED:20231108T183007Z
LAST-MODIFIED:20231108T183007Z
UID:6237-1700674200-1700677800@sibfordvillagehall.org.uk
SUMMARY:Sibford young performers
DESCRIPTION:
URL:https://sibfordvillagehall.org.uk/event/sibford-young-perform-4/
LOCATION:Main hall
END:VEVENT
BEGIN:VEVENT
DTSTART;TZID=Europe/London:20231122T190000
DTEND;TZID=Europe/London:20231122T210000
DTSTAMP:20260421T144936
CREATED:20230727T183009Z
LAST-MODIFIED:20230727T183009Z
UID:5651-1700679600-1700686800@sibfordvillagehall.org.uk
SUMMARY:Bridge Classes
DESCRIPTION:
URL:https://sibfordvillagehall.org.uk/event/bridge-classes-2-7/
LOCATION:Main hall
END:VEVENT
END:VCALENDAR