BEGIN:VCALENDAR
VERSION:2.0
PRODID:-//Sibford Village Hall - ECPv6.15.20//NONSGML v1.0//EN
CALSCALE:GREGORIAN
METHOD:PUBLISH
X-WR-CALNAME:Sibford Village Hall
X-ORIGINAL-URL:https://sibfordvillagehall.org.uk
X-WR-CALDESC:Events for Sibford Village Hall
REFRESH-INTERVAL;VALUE=DURATION:PT1H
X-Robots-Tag:noindex
X-PUBLISHED-TTL:PT1H
BEGIN:VTIMEZONE
TZID:Europe/London
BEGIN:DAYLIGHT
TZOFFSETFROM:+0000
TZOFFSETTO:+0100
TZNAME:BST
DTSTART:20220327T010000
END:DAYLIGHT
BEGIN:STANDARD
TZOFFSETFROM:+0100
TZOFFSETTO:+0000
TZNAME:GMT
DTSTART:20221030T010000
END:STANDARD
BEGIN:DAYLIGHT
TZOFFSETFROM:+0000
TZOFFSETTO:+0100
TZNAME:BST
DTSTART:20230326T010000
END:DAYLIGHT
BEGIN:STANDARD
TZOFFSETFROM:+0100
TZOFFSETTO:+0000
TZNAME:GMT
DTSTART:20231029T010000
END:STANDARD
BEGIN:DAYLIGHT
TZOFFSETFROM:+0000
TZOFFSETTO:+0100
TZNAME:BST
DTSTART:20240331T010000
END:DAYLIGHT
BEGIN:STANDARD
TZOFFSETFROM:+0100
TZOFFSETTO:+0000
TZNAME:GMT
DTSTART:20241027T010000
END:STANDARD
END:VTIMEZONE
BEGIN:VEVENT
DTSTART;TZID=Europe/London:20231116T090000
DTEND;TZID=Europe/London:20231116T110000
DTSTAMP:20260421T144958
CREATED:20231030T183008Z
LAST-MODIFIED:20231030T183008Z
UID:6212-1700125200-1700132400@sibfordvillagehall.org.uk
SUMMARY:Yoga
DESCRIPTION:
URL:https://sibfordvillagehall.org.uk/event/private-event-29-3/
LOCATION:Main hall
END:VEVENT
BEGIN:VEVENT
DTSTART;TZID=Europe/London:20231116T193000
DTEND;TZID=Europe/London:20231116T213000
DTSTAMP:20260421T144958
CREATED:20231102T183006Z
LAST-MODIFIED:20231102T183006Z
UID:6225-1700163000-1700170200@sibfordvillagehall.org.uk
SUMMARY:Sibfords History Society - Drovers' Roads
DESCRIPTION:Ditchedge Lane\, Little London\, The Gate Hangs High\, Traitors’ Ford – all these local places are associated with Drovers’ Roads. Join us to explore Drovers’ Roads in Oxfordshire and Beyond with our visiting speaker Tim Healey. Tim’s talk will describe how in centuries past cattle drovers made epic treks from the far reaches of West Wales to London’s Smithfield Market\, passing through Oxfordshire on the way\, leaving tell-tale marks on the landscape. \nDoors open at 7.15 p.m. and the talk starts at 7.30 p.m. Free to members\, visitors £3. Refreshments follow the talk.
URL:https://sibfordvillagehall.org.uk/event/sibfords-history-society-drovers-roads/
LOCATION:Main hall
END:VEVENT
END:VCALENDAR