BEGIN:VCALENDAR
VERSION:2.0
PRODID:-//Sibford Village Hall - ECPv6.15.20//NONSGML v1.0//EN
CALSCALE:GREGORIAN
METHOD:PUBLISH
X-ORIGINAL-URL:https://sibfordvillagehall.org.uk
X-WR-CALDESC:Events for Sibford Village Hall
REFRESH-INTERVAL;VALUE=DURATION:PT1H
X-Robots-Tag:noindex
X-PUBLISHED-TTL:PT1H
BEGIN:VTIMEZONE
TZID:Europe/London
BEGIN:DAYLIGHT
TZOFFSETFROM:+0000
TZOFFSETTO:+0100
TZNAME:BST
DTSTART:20220327T010000
END:DAYLIGHT
BEGIN:STANDARD
TZOFFSETFROM:+0100
TZOFFSETTO:+0000
TZNAME:GMT
DTSTART:20221030T010000
END:STANDARD
BEGIN:DAYLIGHT
TZOFFSETFROM:+0000
TZOFFSETTO:+0100
TZNAME:BST
DTSTART:20230326T010000
END:DAYLIGHT
BEGIN:STANDARD
TZOFFSETFROM:+0100
TZOFFSETTO:+0000
TZNAME:GMT
DTSTART:20231029T010000
END:STANDARD
BEGIN:DAYLIGHT
TZOFFSETFROM:+0000
TZOFFSETTO:+0100
TZNAME:BST
DTSTART:20240331T010000
END:DAYLIGHT
BEGIN:STANDARD
TZOFFSETFROM:+0100
TZOFFSETTO:+0000
TZNAME:GMT
DTSTART:20241027T010000
END:STANDARD
END:VTIMEZONE
BEGIN:VEVENT
DTSTART;TZID=Europe/London:20231101T120000
DTEND;TZID=Europe/London:20231101T143000
DTSTAMP:20260421T132432
CREATED:20230723T183010Z
LAST-MODIFIED:20230723T183010Z
UID:5617-1698840000-1698849000@sibfordvillagehall.org.uk
SUMMARY:Sibford Lunch Club
DESCRIPTION:
URL:https://sibfordvillagehall.org.uk/event/sibford-lunch-club-10-43/
LOCATION:Main hall
END:VEVENT
BEGIN:VEVENT
DTSTART;TZID=Europe/London:20231101T173000
DTEND;TZID=Europe/London:20231101T183000
DTSTAMP:20260421T132432
CREATED:20231023T183007Z
LAST-MODIFIED:20231023T183007Z
UID:6154-1698859800-1698863400@sibfordvillagehall.org.uk
SUMMARY:Sibford young perform..
DESCRIPTION:
URL:https://sibfordvillagehall.org.uk/event/sibford-young-perform/
LOCATION:Main hall
END:VEVENT
BEGIN:VEVENT
DTSTART;TZID=Europe/London:20231101T190000
DTEND;TZID=Europe/London:20231101T210000
DTSTAMP:20260421T132432
CREATED:20230727T183008Z
LAST-MODIFIED:20230727T183008Z
UID:5645-1698865200-1698872400@sibfordvillagehall.org.uk
SUMMARY:Bridge Classes
DESCRIPTION:
URL:https://sibfordvillagehall.org.uk/event/bridge-classes-2-5/
LOCATION:Main hall
END:VEVENT
END:VCALENDAR