BEGIN:VCALENDAR
VERSION:2.0
PRODID:-//Sibford Village Hall - ECPv6.15.20//NONSGML v1.0//EN
CALSCALE:GREGORIAN
METHOD:PUBLISH
X-ORIGINAL-URL:https://sibfordvillagehall.org.uk
X-WR-CALDESC:Events for Sibford Village Hall
REFRESH-INTERVAL;VALUE=DURATION:PT1H
X-Robots-Tag:noindex
X-PUBLISHED-TTL:PT1H
BEGIN:VTIMEZONE
TZID:Europe/London
BEGIN:DAYLIGHT
TZOFFSETFROM:+0000
TZOFFSETTO:+0100
TZNAME:BST
DTSTART:20220327T010000
END:DAYLIGHT
BEGIN:STANDARD
TZOFFSETFROM:+0100
TZOFFSETTO:+0000
TZNAME:GMT
DTSTART:20221030T010000
END:STANDARD
BEGIN:DAYLIGHT
TZOFFSETFROM:+0000
TZOFFSETTO:+0100
TZNAME:BST
DTSTART:20230326T010000
END:DAYLIGHT
BEGIN:STANDARD
TZOFFSETFROM:+0100
TZOFFSETTO:+0000
TZNAME:GMT
DTSTART:20231029T010000
END:STANDARD
BEGIN:DAYLIGHT
TZOFFSETFROM:+0000
TZOFFSETTO:+0100
TZNAME:BST
DTSTART:20240331T010000
END:DAYLIGHT
BEGIN:STANDARD
TZOFFSETFROM:+0100
TZOFFSETTO:+0000
TZNAME:GMT
DTSTART:20241027T010000
END:STANDARD
END:VTIMEZONE
BEGIN:VEVENT
DTSTART;TZID=Europe/London:20231026T193000
DTEND;TZID=Europe/London:20231026T210000
DTSTAMP:20260421T132516
CREATED:20230930T183006Z
LAST-MODIFIED:20230930T183006Z
UID:6069-1698348600-1698354000@sibfordvillagehall.org.uk
SUMMARY:Film Night
DESCRIPTION:In a secluded village in the Italian Alps\, an unlikely brotherhood forms between two young boys: Pietro\, a boy from the city\, and Bruno\, who has only ever known life in the mountains. Over the years Bruno remains faithful to his home while Pietro aspires to greater heights\, but as decades pass and lives unfold\, their paths ultimately lead them back to where they first met – and back to each other. Set against a truly magnificent Italian landscape\, The Eight Mountains is a profoundly moving portrait of a lifelong friendship. \nItalian with English subtitles \nDoors open at 7. Film starts at 7.30. Refreshments available. Admission £3.
URL:https://sibfordvillagehall.org.uk/event/film-night-12/
LOCATION:Main hall
END:VEVENT
END:VCALENDAR