BEGIN:VCALENDAR
VERSION:2.0
PRODID:-//Sibford Village Hall - ECPv6.15.20//NONSGML v1.0//EN
CALSCALE:GREGORIAN
METHOD:PUBLISH
X-ORIGINAL-URL:https://sibfordvillagehall.org.uk
X-WR-CALDESC:Events for Sibford Village Hall
REFRESH-INTERVAL;VALUE=DURATION:PT1H
X-Robots-Tag:noindex
X-PUBLISHED-TTL:PT1H
BEGIN:VTIMEZONE
TZID:Europe/London
BEGIN:DAYLIGHT
TZOFFSETFROM:+0000
TZOFFSETTO:+0100
TZNAME:BST
DTSTART:20220327T010000
END:DAYLIGHT
BEGIN:STANDARD
TZOFFSETFROM:+0100
TZOFFSETTO:+0000
TZNAME:GMT
DTSTART:20221030T010000
END:STANDARD
BEGIN:DAYLIGHT
TZOFFSETFROM:+0000
TZOFFSETTO:+0100
TZNAME:BST
DTSTART:20230326T010000
END:DAYLIGHT
BEGIN:STANDARD
TZOFFSETFROM:+0100
TZOFFSETTO:+0000
TZNAME:GMT
DTSTART:20231029T010000
END:STANDARD
BEGIN:DAYLIGHT
TZOFFSETFROM:+0000
TZOFFSETTO:+0100
TZNAME:BST
DTSTART:20240331T010000
END:DAYLIGHT
BEGIN:STANDARD
TZOFFSETFROM:+0100
TZOFFSETTO:+0000
TZNAME:GMT
DTSTART:20241027T010000
END:STANDARD
END:VTIMEZONE
BEGIN:VEVENT
DTSTART;TZID=Europe/London:20231018T120000
DTEND;TZID=Europe/London:20231018T143000
DTSTAMP:20260421T132517
CREATED:20230723T183009Z
LAST-MODIFIED:20230723T183009Z
UID:5615-1697630400-1697639400@sibfordvillagehall.org.uk
SUMMARY:Sibford Lunch Club
DESCRIPTION:
URL:https://sibfordvillagehall.org.uk/event/sibford-lunch-club-10-41/
LOCATION:Main hall
END:VEVENT
BEGIN:VEVENT
DTSTART;TZID=Europe/London:20231018T173000
DTEND;TZID=Europe/London:20231018T183000
DTSTAMP:20260421T132517
CREATED:20231011T183006Z
LAST-MODIFIED:20231011T183006Z
UID:6118-1697650200-1697653800@sibfordvillagehall.org.uk
SUMMARY:Youth drama & dance group
DESCRIPTION:
URL:https://sibfordvillagehall.org.uk/event/youth-drama-dance-g-2-2/
LOCATION:Main hall
END:VEVENT
BEGIN:VEVENT
DTSTART;TZID=Europe/London:20231018T190000
DTEND;TZID=Europe/London:20231018T210000
DTSTAMP:20260421T132517
CREATED:20230727T183008Z
LAST-MODIFIED:20230727T183008Z
UID:5643-1697655600-1697662800@sibfordvillagehall.org.uk
SUMMARY:Bridge Classes
DESCRIPTION:
URL:https://sibfordvillagehall.org.uk/event/bridge-classes-2-3/
LOCATION:Main hall
END:VEVENT
BEGIN:VEVENT
DTSTART;TZID=Europe/London:20231018T193000
DTEND;TZID=Europe/London:20231018T220000
DTSTAMP:20260421T132517
CREATED:20231012T183007Z
LAST-MODIFIED:20231012T183007Z
UID:6134-1697657400-1697666400@sibfordvillagehall.org.uk
SUMMARY:Meeting of Town Estate Charity Trustees
DESCRIPTION:
URL:https://sibfordvillagehall.org.uk/event/meeting-of-town-estate-charity-trustees/
LOCATION:Small hall
END:VEVENT
END:VCALENDAR