BEGIN:VCALENDAR
VERSION:2.0
PRODID:-//Sibford Village Hall - ECPv6.15.20//NONSGML v1.0//EN
CALSCALE:GREGORIAN
METHOD:PUBLISH
X-ORIGINAL-URL:https://sibfordvillagehall.org.uk
X-WR-CALDESC:Events for Sibford Village Hall
REFRESH-INTERVAL;VALUE=DURATION:PT1H
X-Robots-Tag:noindex
X-PUBLISHED-TTL:PT1H
BEGIN:VTIMEZONE
TZID:Europe/London
BEGIN:DAYLIGHT
TZOFFSETFROM:+0000
TZOFFSETTO:+0100
TZNAME:BST
DTSTART:20220327T010000
END:DAYLIGHT
BEGIN:STANDARD
TZOFFSETFROM:+0100
TZOFFSETTO:+0000
TZNAME:GMT
DTSTART:20221030T010000
END:STANDARD
BEGIN:DAYLIGHT
TZOFFSETFROM:+0000
TZOFFSETTO:+0100
TZNAME:BST
DTSTART:20230326T010000
END:DAYLIGHT
BEGIN:STANDARD
TZOFFSETFROM:+0100
TZOFFSETTO:+0000
TZNAME:GMT
DTSTART:20231029T010000
END:STANDARD
BEGIN:DAYLIGHT
TZOFFSETFROM:+0000
TZOFFSETTO:+0100
TZNAME:BST
DTSTART:20240331T010000
END:DAYLIGHT
BEGIN:STANDARD
TZOFFSETFROM:+0100
TZOFFSETTO:+0000
TZNAME:GMT
DTSTART:20241027T010000
END:STANDARD
END:VTIMEZONE
BEGIN:VEVENT
DTSTART;TZID=Europe/London:20231017T190000
DTEND;TZID=Europe/London:20231017T203000
DTSTAMP:20260421T132425
CREATED:20231011T183006Z
LAST-MODIFIED:20231011T183006Z
UID:6117-1697569200-1697574600@sibfordvillagehall.org.uk
SUMMARY:Community Meeting to discuss Main Street Parking and Access
DESCRIPTION:The following note has been sent out to residents: \nDear resident of Bonds End Land or Main Street\, \nYou are invited to join us to discuss Main Street Parking and Rye Hill Farm Access at 7pm on Tuesday 17th October 2023 in the Village Hall \nOver the years\, the topic of parking in Main Street and Bonds End Lane has been a regular talking point with limited space\, an increasing number of cars\, and the need for everyone to have access to their properties\, including farm traffic. \nThere continue to be periodical issues amongst parishioners in this part of the village and the Parish Council has agreed that we would like to try and help find ways of improving things\, if possible. \nWe would like residents of Bonds End Lane and Main Street to join us to talk through the issues\, identify possible solutions and agree any next steps to be taken by residents and/or the Parish Council. \nWe look forward to seeing as many of you as possible. \nIf you are unable to make the meeting\, please feel free to contact James Garstin or Alan Berks by email with any issues or suggestions you would like to raise. \nMany thanks\,\nJames Garstin and Alan Berks \nSibford Gower Parish Council \ncllr.james.garstin@thesibfords.org.uk \ncllr.alan.berks@thesibfords.org.uk
URL:https://sibfordvillagehall.org.uk/event/community-meeting-to/
LOCATION:Main hall
END:VEVENT
END:VCALENDAR