BEGIN:VCALENDAR
VERSION:2.0
PRODID:-//Sibford Village Hall - ECPv6.15.20//NONSGML v1.0//EN
CALSCALE:GREGORIAN
METHOD:PUBLISH
X-WR-CALNAME:Sibford Village Hall
X-ORIGINAL-URL:https://sibfordvillagehall.org.uk
X-WR-CALDESC:Events for Sibford Village Hall
REFRESH-INTERVAL;VALUE=DURATION:PT1H
X-Robots-Tag:noindex
X-PUBLISHED-TTL:PT1H
BEGIN:VTIMEZONE
TZID:Europe/London
BEGIN:DAYLIGHT
TZOFFSETFROM:+0000
TZOFFSETTO:+0100
TZNAME:BST
DTSTART:20220327T010000
END:DAYLIGHT
BEGIN:STANDARD
TZOFFSETFROM:+0100
TZOFFSETTO:+0000
TZNAME:GMT
DTSTART:20221030T010000
END:STANDARD
BEGIN:DAYLIGHT
TZOFFSETFROM:+0000
TZOFFSETTO:+0100
TZNAME:BST
DTSTART:20230326T010000
END:DAYLIGHT
BEGIN:STANDARD
TZOFFSETFROM:+0100
TZOFFSETTO:+0000
TZNAME:GMT
DTSTART:20231029T010000
END:STANDARD
BEGIN:DAYLIGHT
TZOFFSETFROM:+0000
TZOFFSETTO:+0100
TZNAME:BST
DTSTART:20240331T010000
END:DAYLIGHT
BEGIN:STANDARD
TZOFFSETFROM:+0100
TZOFFSETTO:+0000
TZNAME:GMT
DTSTART:20241027T010000
END:STANDARD
END:VTIMEZONE
BEGIN:VEVENT
DTSTART;TZID=Europe/London:20230930T090000
DTEND;TZID=Europe/London:20230930T100000
DTSTAMP:20260421T120449
CREATED:20230822T183012Z
LAST-MODIFIED:20230822T183012Z
UID:5848-1696064400-1696068000@sibfordvillagehall.org.uk
SUMMARY:Karate Class
DESCRIPTION:
URL:https://sibfordvillagehall.org.uk/event/karate-class-6/
LOCATION:Main hall
END:VEVENT
BEGIN:VEVENT
DTSTART;TZID=Europe/London:20230930T120000
DTEND;TZID=Europe/London:20230930T180000
DTSTAMP:20260421T120449
CREATED:20230531T183008Z
LAST-MODIFIED:20230531T183008Z
UID:5464-1696075200-1696096800@sibfordvillagehall.org.uk
SUMMARY:Village Hall event
DESCRIPTION:Set up for Applefest
URL:https://sibfordvillagehall.org.uk/event/village-hall-event-2/
LOCATION:Main hall
END:VEVENT
END:VCALENDAR