BEGIN:VCALENDAR
VERSION:2.0
PRODID:-//Sibford Village Hall - ECPv6.15.20//NONSGML v1.0//EN
CALSCALE:GREGORIAN
METHOD:PUBLISH
X-ORIGINAL-URL:https://sibfordvillagehall.org.uk
X-WR-CALDESC:Events for Sibford Village Hall
REFRESH-INTERVAL;VALUE=DURATION:PT1H
X-Robots-Tag:noindex
X-PUBLISHED-TTL:PT1H
BEGIN:VTIMEZONE
TZID:Europe/London
BEGIN:DAYLIGHT
TZOFFSETFROM:+0000
TZOFFSETTO:+0100
TZNAME:BST
DTSTART:20220327T010000
END:DAYLIGHT
BEGIN:STANDARD
TZOFFSETFROM:+0100
TZOFFSETTO:+0000
TZNAME:GMT
DTSTART:20221030T010000
END:STANDARD
BEGIN:DAYLIGHT
TZOFFSETFROM:+0000
TZOFFSETTO:+0100
TZNAME:BST
DTSTART:20230326T010000
END:DAYLIGHT
BEGIN:STANDARD
TZOFFSETFROM:+0100
TZOFFSETTO:+0000
TZNAME:GMT
DTSTART:20231029T010000
END:STANDARD
BEGIN:DAYLIGHT
TZOFFSETFROM:+0000
TZOFFSETTO:+0100
TZNAME:BST
DTSTART:20240331T010000
END:DAYLIGHT
BEGIN:STANDARD
TZOFFSETFROM:+0100
TZOFFSETTO:+0000
TZNAME:GMT
DTSTART:20241027T010000
END:STANDARD
END:VTIMEZONE
BEGIN:VEVENT
DTSTART;TZID=Europe/London:20230923T090000
DTEND;TZID=Europe/London:20230923T100000
DTSTAMP:20260421T132512
CREATED:20230822T183011Z
LAST-MODIFIED:20230822T183011Z
UID:5844-1695459600-1695463200@sibfordvillagehall.org.uk
SUMMARY:Karate Class
DESCRIPTION:
URL:https://sibfordvillagehall.org.uk/event/karate-class-5/
LOCATION:Main hall
END:VEVENT
BEGIN:VEVENT
DTSTART;TZID=Europe/London:20230923T120000
DTEND;TZID=Europe/London:20230923T180000
DTSTAMP:20260421T132512
CREATED:20230919T183005Z
LAST-MODIFIED:20230919T183005Z
UID:5997-1695470400-1695492000@sibfordvillagehall.org.uk
SUMMARY:Private event
DESCRIPTION:
URL:https://sibfordvillagehall.org.uk/event/private-event-12/
LOCATION:Main hall
END:VEVENT
BEGIN:VEVENT
DTSTART;TZID=Europe/London:20230923T190000
DTEND;TZID=Europe/London:20230923T190000
DTSTAMP:20260421T132512
CREATED:20230804T183005Z
LAST-MODIFIED:20230804T183005Z
UID:5685-1695495600-1695495600@sibfordvillagehall.org.uk
SUMMARY:Harvest Supper
DESCRIPTION:All villagers and  families are invited to come together to celebrate the hard work of our local farmers and the successful gathering of the harvest for another year. \nBring a contribution (savoury or sweet\, hot or cold) to be added to the table to be pooled with all our tasty contributions. Water will be provided but please bring drinks to be enjoyed by your family. \nPlates\, glasses and cutlery will be supplied. There is no charge for the evening\, as a generous offer has been received to cover the cost of the Hall. \nThe evening will give us a chance to meet with villagers\, friends and neighbours\, old and new\, to enjoy a relaxed\, sociable time together\, with fun for children and families. \nPlease let one of us know if you are coming and the number in your party\, so that we can prepare for everyone. \nMaureen Hicks 780 259 maureen@hicks-sibford.co.uk \nIsabel George 07989 968 736 isabelgeorge4@gmail.com \nWe really hope you can join us.
URL:https://sibfordvillagehall.org.uk/event/private-event-11/
LOCATION:Main hall
END:VEVENT
END:VCALENDAR