BEGIN:VCALENDAR
VERSION:2.0
PRODID:-//Sibford Village Hall - ECPv6.15.20//NONSGML v1.0//EN
CALSCALE:GREGORIAN
METHOD:PUBLISH
X-ORIGINAL-URL:https://sibfordvillagehall.org.uk
X-WR-CALDESC:Events for Sibford Village Hall
REFRESH-INTERVAL;VALUE=DURATION:PT1H
X-Robots-Tag:noindex
X-PUBLISHED-TTL:PT1H
BEGIN:VTIMEZONE
TZID:Europe/London
BEGIN:DAYLIGHT
TZOFFSETFROM:+0000
TZOFFSETTO:+0100
TZNAME:BST
DTSTART:20220327T010000
END:DAYLIGHT
BEGIN:STANDARD
TZOFFSETFROM:+0100
TZOFFSETTO:+0000
TZNAME:GMT
DTSTART:20221030T010000
END:STANDARD
BEGIN:DAYLIGHT
TZOFFSETFROM:+0000
TZOFFSETTO:+0100
TZNAME:BST
DTSTART:20230326T010000
END:DAYLIGHT
BEGIN:STANDARD
TZOFFSETFROM:+0100
TZOFFSETTO:+0000
TZNAME:GMT
DTSTART:20231029T010000
END:STANDARD
BEGIN:DAYLIGHT
TZOFFSETFROM:+0000
TZOFFSETTO:+0100
TZNAME:BST
DTSTART:20240331T010000
END:DAYLIGHT
BEGIN:STANDARD
TZOFFSETFROM:+0100
TZOFFSETTO:+0000
TZNAME:GMT
DTSTART:20241027T010000
END:STANDARD
END:VTIMEZONE
BEGIN:VEVENT
DTSTART;TZID=Europe/London:20230918T093000
DTEND;TZID=Europe/London:20230918T113000
DTSTAMP:20260421T122024
CREATED:20230915T183011Z
LAST-MODIFIED:20230915T183011Z
UID:5950-1695029400-1695036600@sibfordvillagehall.org.uk
SUMMARY:Private event
DESCRIPTION:
URL:https://sibfordvillagehall.org.uk/event/private-event-21/
LOCATION:Main hall
END:VEVENT
BEGIN:VEVENT
DTSTART;TZID=Europe/London:20230918T183000
DTEND;TZID=Europe/London:20230918T193000
DTSTAMP:20260421T122024
CREATED:20230822T183011Z
LAST-MODIFIED:20230822T183011Z
UID:5840-1695061800-1695065400@sibfordvillagehall.org.uk
SUMMARY:Karate Class
DESCRIPTION:
URL:https://sibfordvillagehall.org.uk/event/karate-class-2-4/
LOCATION:Main hall
END:VEVENT
BEGIN:VEVENT
DTSTART;TZID=Europe/London:20230918T193000
DTEND;TZID=Europe/London:20230918T213000
DTSTAMP:20260421T122024
CREATED:20230913T183008Z
LAST-MODIFIED:20230913T183008Z
UID:5909-1695065400-1695072600@sibfordvillagehall.org.uk
SUMMARY:Sibford Players
DESCRIPTION:
URL:https://sibfordvillagehall.org.uk/event/sibford-players-37/
LOCATION:Main hall
END:VEVENT
END:VCALENDAR