BEGIN:VCALENDAR
VERSION:2.0
PRODID:-//Sibford Village Hall - ECPv6.15.20//NONSGML v1.0//EN
CALSCALE:GREGORIAN
METHOD:PUBLISH
X-ORIGINAL-URL:https://sibfordvillagehall.org.uk
X-WR-CALDESC:Events for Sibford Village Hall
REFRESH-INTERVAL;VALUE=DURATION:PT1H
X-Robots-Tag:noindex
X-PUBLISHED-TTL:PT1H
BEGIN:VTIMEZONE
TZID:Europe/London
BEGIN:DAYLIGHT
TZOFFSETFROM:+0000
TZOFFSETTO:+0100
TZNAME:BST
DTSTART:20220327T010000
END:DAYLIGHT
BEGIN:STANDARD
TZOFFSETFROM:+0100
TZOFFSETTO:+0000
TZNAME:GMT
DTSTART:20221030T010000
END:STANDARD
BEGIN:DAYLIGHT
TZOFFSETFROM:+0000
TZOFFSETTO:+0100
TZNAME:BST
DTSTART:20230326T010000
END:DAYLIGHT
BEGIN:STANDARD
TZOFFSETFROM:+0100
TZOFFSETTO:+0000
TZNAME:GMT
DTSTART:20231029T010000
END:STANDARD
BEGIN:DAYLIGHT
TZOFFSETFROM:+0000
TZOFFSETTO:+0100
TZNAME:BST
DTSTART:20240331T010000
END:DAYLIGHT
BEGIN:STANDARD
TZOFFSETFROM:+0100
TZOFFSETTO:+0000
TZNAME:GMT
DTSTART:20241027T010000
END:STANDARD
END:VTIMEZONE
BEGIN:VEVENT
DTSTART;TZID=Europe/London:20230904T100000
DTEND;TZID=Europe/London:20230904T130000
DTSTAMP:20260421T120612
CREATED:20230808T183007Z
LAST-MODIFIED:20230808T183007Z
UID:5698-1693821600-1693832400@sibfordvillagehall.org.uk
SUMMARY:Private event
DESCRIPTION:
URL:https://sibfordvillagehall.org.uk/event/private-event-15/
LOCATION:Main hall
END:VEVENT
BEGIN:VEVENT
DTSTART;TZID=Europe/London:20230904T183000
DTEND;TZID=Europe/London:20230904T193000
DTSTAMP:20260421T120612
CREATED:20230822T183010Z
LAST-MODIFIED:20230822T183010Z
UID:5833-1693852200-1693855800@sibfordvillagehall.org.uk
SUMMARY:Karate Class
DESCRIPTION:
URL:https://sibfordvillagehall.org.uk/event/karate-class-2-2/
LOCATION:Main hall
END:VEVENT
END:VCALENDAR