BEGIN:VCALENDAR
VERSION:2.0
PRODID:-//Sibford Village Hall - ECPv6.15.20//NONSGML v1.0//EN
CALSCALE:GREGORIAN
METHOD:PUBLISH
X-ORIGINAL-URL:https://sibfordvillagehall.org.uk
X-WR-CALDESC:Events for Sibford Village Hall
REFRESH-INTERVAL;VALUE=DURATION:PT1H
X-Robots-Tag:noindex
X-PUBLISHED-TTL:PT1H
BEGIN:VTIMEZONE
TZID:Europe/London
BEGIN:DAYLIGHT
TZOFFSETFROM:+0000
TZOFFSETTO:+0100
TZNAME:BST
DTSTART:20220327T010000
END:DAYLIGHT
BEGIN:STANDARD
TZOFFSETFROM:+0100
TZOFFSETTO:+0000
TZNAME:GMT
DTSTART:20221030T010000
END:STANDARD
BEGIN:DAYLIGHT
TZOFFSETFROM:+0000
TZOFFSETTO:+0100
TZNAME:BST
DTSTART:20230326T010000
END:DAYLIGHT
BEGIN:STANDARD
TZOFFSETFROM:+0100
TZOFFSETTO:+0000
TZNAME:GMT
DTSTART:20231029T010000
END:STANDARD
BEGIN:DAYLIGHT
TZOFFSETFROM:+0000
TZOFFSETTO:+0100
TZNAME:BST
DTSTART:20240331T010000
END:DAYLIGHT
BEGIN:STANDARD
TZOFFSETFROM:+0100
TZOFFSETTO:+0000
TZNAME:GMT
DTSTART:20241027T010000
END:STANDARD
END:VTIMEZONE
BEGIN:VEVENT
DTSTART;TZID=Europe/London:20230817T090000
DTEND;TZID=Europe/London:20230817T100000
DTSTAMP:20260421T105324
CREATED:20230811T183007Z
LAST-MODIFIED:20230811T183007Z
UID:5700-1692262800-1692266400@sibfordvillagehall.org.uk
SUMMARY:Flow Yoga
DESCRIPTION:
URL:https://sibfordvillagehall.org.uk/event/flow-yoga-7-4/
LOCATION:Main hall
END:VEVENT
BEGIN:VEVENT
DTSTART;TZID=Europe/London:20230817T100000
DTEND;TZID=Europe/London:20230817T110000
DTSTAMP:20260421T105324
CREATED:20230811T183007Z
LAST-MODIFIED:20230811T183007Z
UID:5701-1692266400-1692270000@sibfordvillagehall.org.uk
SUMMARY:Chair Yoga
DESCRIPTION:
URL:https://sibfordvillagehall.org.uk/event/chair-yoga-37-24/
LOCATION:Main hall
END:VEVENT
BEGIN:VEVENT
DTSTART;TZID=Europe/London:20230817T143000
DTEND;TZID=Europe/London:20230817T163000
DTSTAMP:20260421T105324
CREATED:20230731T183006Z
LAST-MODIFIED:20230731T183006Z
UID:5663-1692282600-1692289800@sibfordvillagehall.org.uk
SUMMARY:Afternoon Tea
DESCRIPTION:Ginny Bennett is organising an Afternoon Tea Event to fundraise for Breast Cancer Now\, the research and care charity to support those diagnosed with breast cancer and provide hope for the future\, so that one day no-one will have to die because of breast cancer. \nCome and bring your friends and have a chat and a delicious tea. \nA Raffle Hamper full of afternoon tea goodies will be there to win\, and a Guess the weight of the cake competition. \nA Just Giving page will be set up for anyone to donate in that way.
URL:https://sibfordvillagehall.org.uk/event/afternoon-tea-charity/
LOCATION:Main hall
END:VEVENT
END:VCALENDAR