BEGIN:VCALENDAR
VERSION:2.0
PRODID:-//Sibford Village Hall - ECPv6.15.20//NONSGML v1.0//EN
CALSCALE:GREGORIAN
METHOD:PUBLISH
X-ORIGINAL-URL:https://sibfordvillagehall.org.uk
X-WR-CALDESC:Events for Sibford Village Hall
REFRESH-INTERVAL;VALUE=DURATION:PT1H
X-Robots-Tag:noindex
X-PUBLISHED-TTL:PT1H
BEGIN:VTIMEZONE
TZID:Europe/London
BEGIN:DAYLIGHT
TZOFFSETFROM:+0000
TZOFFSETTO:+0100
TZNAME:BST
DTSTART:20220327T010000
END:DAYLIGHT
BEGIN:STANDARD
TZOFFSETFROM:+0100
TZOFFSETTO:+0000
TZNAME:GMT
DTSTART:20221030T010000
END:STANDARD
BEGIN:DAYLIGHT
TZOFFSETFROM:+0000
TZOFFSETTO:+0100
TZNAME:BST
DTSTART:20230326T010000
END:DAYLIGHT
BEGIN:STANDARD
TZOFFSETFROM:+0100
TZOFFSETTO:+0000
TZNAME:GMT
DTSTART:20231029T010000
END:STANDARD
BEGIN:DAYLIGHT
TZOFFSETFROM:+0000
TZOFFSETTO:+0100
TZNAME:BST
DTSTART:20240331T010000
END:DAYLIGHT
BEGIN:STANDARD
TZOFFSETFROM:+0100
TZOFFSETTO:+0000
TZNAME:GMT
DTSTART:20241027T010000
END:STANDARD
END:VTIMEZONE
BEGIN:VEVENT
DTSTART;TZID=Europe/London:20230619T110000
DTEND;TZID=Europe/London:20230619T160000
DTSTAMP:20260421T114846
CREATED:20230610T183008Z
LAST-MODIFIED:20230610T183008Z
UID:5500-1687172400-1687190400@sibfordvillagehall.org.uk
SUMMARY:Private event
DESCRIPTION:
URL:https://sibfordvillagehall.org.uk/event/private-hire-wedding-reception/
LOCATION:Main hall
END:VEVENT
BEGIN:VEVENT
DTSTART;TZID=Europe/London:20230619T183000
DTEND;TZID=Europe/London:20230619T193000
DTSTAMP:20260421T114846
CREATED:20230515T183016Z
LAST-MODIFIED:20230515T183016Z
UID:5383-1687199400-1687203000@sibfordvillagehall.org.uk
SUMMARY:Karate
DESCRIPTION:
URL:https://sibfordvillagehall.org.uk/event/karate-19-19/
LOCATION:Main hall
END:VEVENT
END:VCALENDAR