BEGIN:VCALENDAR
VERSION:2.0
PRODID:-//Sibford Village Hall - ECPv6.15.20//NONSGML v1.0//EN
CALSCALE:GREGORIAN
METHOD:PUBLISH
X-WR-CALNAME:Sibford Village Hall
X-ORIGINAL-URL:https://sibfordvillagehall.org.uk
X-WR-CALDESC:Events for Sibford Village Hall
REFRESH-INTERVAL;VALUE=DURATION:PT1H
X-Robots-Tag:noindex
X-PUBLISHED-TTL:PT1H
BEGIN:VTIMEZONE
TZID:Europe/London
BEGIN:DAYLIGHT
TZOFFSETFROM:+0000
TZOFFSETTO:+0100
TZNAME:BST
DTSTART:20220327T010000
END:DAYLIGHT
BEGIN:STANDARD
TZOFFSETFROM:+0100
TZOFFSETTO:+0000
TZNAME:GMT
DTSTART:20221030T010000
END:STANDARD
BEGIN:DAYLIGHT
TZOFFSETFROM:+0000
TZOFFSETTO:+0100
TZNAME:BST
DTSTART:20230326T010000
END:DAYLIGHT
BEGIN:STANDARD
TZOFFSETFROM:+0100
TZOFFSETTO:+0000
TZNAME:GMT
DTSTART:20231029T010000
END:STANDARD
BEGIN:DAYLIGHT
TZOFFSETFROM:+0000
TZOFFSETTO:+0100
TZNAME:BST
DTSTART:20240331T010000
END:DAYLIGHT
BEGIN:STANDARD
TZOFFSETFROM:+0100
TZOFFSETTO:+0000
TZNAME:GMT
DTSTART:20241027T010000
END:STANDARD
END:VTIMEZONE
BEGIN:VEVENT
DTSTART;TZID=Europe/London:20230517T120000
DTEND;TZID=Europe/London:20230517T143000
DTSTAMP:20260421T131658
CREATED:20230329T183020Z
LAST-MODIFIED:20230329T183020Z
UID:5030-1684324800-1684333800@sibfordvillagehall.org.uk
SUMMARY:Sibford Lunch Club
DESCRIPTION:
URL:https://sibfordvillagehall.org.uk/event/sibford-lunch-club-10-19/
LOCATION:Main hall
END:VEVENT
BEGIN:VEVENT
DTSTART;TZID=Europe/London:20230517T190000
DTEND;TZID=Europe/London:20230517T200000
DTSTAMP:20260421T131658
CREATED:20230517T183008Z
LAST-MODIFIED:20230517T183008Z
UID:5398-1684350000-1684353600@sibfordvillagehall.org.uk
SUMMARY:Horti Spring Show entry night
DESCRIPTION:2023 Horti Spring Show Entry Form
URL:https://sibfordvillagehall.org.uk/event/horti-spring-show-entry-night/
LOCATION:Small hall
END:VEVENT
BEGIN:VEVENT
DTSTART;TZID=Europe/London:20230517T190000
DTEND;TZID=Europe/London:20230517T210000
DTSTAMP:20260421T131658
CREATED:20230325T183012Z
LAST-MODIFIED:20230325T183012Z
UID:4970-1684350000-1684357200@sibfordvillagehall.org.uk
SUMMARY:Bridge class
DESCRIPTION:
URL:https://sibfordvillagehall.org.uk/event/bridge-classes-8/
LOCATION:Main hall
END:VEVENT
END:VCALENDAR